BEGIN:VCALENDAR
VERSION:2.0
PRODID:spatie/icalendar-generator
DESCRIPTION:Events from CROSSROADS PRESBYTERIAN CHURCH
X-WR-CALDESC:Events from CROSSROADS PRESBYTERIAN CHURCH
REFRESH-INTERVAL;VALUE=DURATION:PT1440M
X-PUBLISHED-TTL:PT1440M
BEGIN:VTIMEZONE
TZID:Etc/GMT+4
BEGIN:STANDARD
DTSTART:20250729T143000Z
TZOFFSETFROM:-0400
TZOFFSETTO:-0400
END:STANDARD
END:VTIMEZONE
BEGIN:VTIMEZONE
TZID:UTC
BEGIN:STANDARD
DTSTART:20250729T160034Z
TZOFFSETFROM:+0000
TZOFFSETTO:+0000
END:STANDARD
END:VTIMEZONE
BEGIN:VEVENT
UID:684-143
DTSTAMP:20260425T160034Z
SUMMARY:Praise Team Practice
LOCATION:Crossroads Presbyterian Church 5587 Redan Road  Stone Mountain Ga 
 30088
ORGANIZER;CN=Valerie Spivey:MAILTO:vlspivey@gmail.com
RRULE:FREQ=WEEKLY;UNTIL=20260427T000000Z
DTSTART;TZID=Etc/GMT+4:20260425T143000
DTEND;TZID=Etc/GMT+4:20260425T153000
X-ALT-DESC;FMTTYPE=TEXT/HTML:
CATEGORIES:This Week at Crossroads
URL;VALUE=URI:https://www.crossroads-pc.com/event/?mc_id=684&#038;vcal=684
METHOD:PUBLISH
END:VEVENT
END:VCALENDAR